BEGIN:VCALENDAR
VERSION:2.0
PRODID:-//ical.marudot.com//iCal Event Maker
CALSCALE:GREGORIAN
BEGIN:VTIMEZONE
TZID:Europe/Berlin
LAST-MODIFIED:20231222T233358Z
TZURL:https://www.tzurl.org/zoneinfo-outlook/Europe/Berlin
X-LIC-LOCATION:Europe/Berlin
BEGIN:DAYLIGHT
TZNAME:CEST
TZOFFSETFROM:+0100
TZOFFSETTO:+0200
DTSTART:19700329T020000
RRULE:FREQ=YEARLY;BYMONTH=3;BYDAY=-1SU
END:DAYLIGHT
BEGIN:STANDARD
TZNAME:CET
TZOFFSETFROM:+0200
TZOFFSETTO:+0100
DTSTART:19701025T030000
RRULE:FREQ=YEARLY;BYMONTH=10;BYDAY=-1SU
END:STANDARD
END:VTIMEZONE
BEGIN:VEVENT
DTSTAMP:20240807T065852Z
UID:1722937464874-70366@ical.marudot.com
DTSTART;TZID=Europe/Berlin:20241017T110000
DTEND;TZID=Europe/Berlin:20241018T110000
SUMMARY:Eviden konferencia - Digitálne trendy 2024
DESCRIPTION:Pozývame Vás na tradičnú Eviden konferenciu Digitálne trendy 2024\, ktorá sa uskutoční 17. – 18. októbra 2024 v Hoteli Kaskady\, Sliač. V prípade akýchkoľvek otázok nás prosím kontaktujte na adrese ​​​​​sylvia.zazova@eviden.com
LOCATION:Hotel Kaskady\, Sliač
END:VEVENT
END:VCALENDAR